BEGIN:VCALENDAR
VERSION:2.0
PRODID:-//Tantra-nature - ECPv6.10.2//NONSGML v1.0//EN
CALSCALE:GREGORIAN
METHOD:PUBLISH
X-WR-CALNAME:Tantra-nature
X-ORIGINAL-URL:https://www.tantra-nature.com
X-WR-CALDESC:Évènements pour Tantra-nature
REFRESH-INTERVAL;VALUE=DURATION:PT1H
X-Robots-Tag:noindex
X-PUBLISHED-TTL:PT1H
BEGIN:VTIMEZONE
TZID:UTC
BEGIN:STANDARD
TZOFFSETFROM:+0000
TZOFFSETTO:+0000
TZNAME:UTC
DTSTART:20260101T000000
END:STANDARD
END:VTIMEZONE
BEGIN:VEVENT
DTSTART;TZID=UTC:20260604T180000
DTEND;TZID=UTC:20260607T130000
DTSTAMP:20260425T153938
CREATED:20260309T085037Z
LAST-MODIFIED:20260309T100454Z
UID:10000076-1780596000-1780837200@www.tantra-nature.com
SUMMARY:Stage tantra et massages tantriques au Pays Basque
DESCRIPTION:STAGE TANTRA et MASSAGES TANTRIQUES AU PAYS BASQUEDu jeudi 4 (18h) au dimanche 7 juin 2026 (13h) \nAvec possibilité d’arriver le vendredi soir (19h) \nOrganisé par Dominique Bouilly et Hélène Friart-Lamourette Au Pays Basque\n \nCe stage propose une approche structurée du massage tantrique comme outil de conscience corporelle et énergétique. Le massage tantrique se distingue par un toucher lent\, présent et respectueux\, visant à favoriser la détente profonde\, l’écoute des sensations et la circulation de l’énergie vitale dans l’ensemble du corps.\n\nÀ travers des temps de pratiques guidées\, de respiration consciente et de structures de bioénergie\, les participants apprendront à éveiller progressivement l’énergie de la kundalini.\n\nEn fonction du groupe\, nous proposerons le samedi des pratiques innovantes et avancées. Le stage met l’accent sur la sécurité\, le consentement\, le respect des limites personnelles et l’intégration des expériences vécues.\n\nCe travail permet de développer la qualité de présence\, la sensibilité au toucher et une meilleure compréhension des liens entre corps\, énergie et conscience\, dans un cadre clair et bienveillant. \nvoir le flyer \nPour confirmer votre inscription : \nEnvoyer un chèque de 100 euros à Hélène Friart-Lamourette\n83 bis rue de Chartrèze 33170 Gradignan \nListe des affaires à apporter : Prévoir une tenue souple\, un paréo\, une grande serviette de bain pour les massages\, un bandeau pour les yeux\, un paquet de lingettes\, de l’huile de massage (huile de coco bio ou sésame)\, petits coussins pour votre confort\, maillot de bain. \nInfos pratiquesTarif : \nStage : 300 euros + Hébergement : 300 euros\nPossibilité d’arriver le vendredi soir 19h\nStage : 200 euros et hébergement : 200 euros \nAdresse : \nLieu : 881\, Chemin de Bellevue 64270 Bergouey-Viellenave\nGite-bellevue-paysbasque.fr \nRenseignements et inscriptions :\nDominique Bouilly au 0611503234\nOstéopathe D.O. Fasciathérapeute et formé à la Bioénergie\, il enseigne le tantra et le massage tantrique depuis 20 ans\ncontact@tantra-nature.com\nwww.tantra-nature.com \nInscriptions auprès d’Hélène Friart -Lamourette au 0686741654 \nAnalyste psycho-organique-Psychopraticien FF2P-Sophrologue. Elle\nanime des ateliers et stages de tantra depuis 10 ans.\ncontact@tantra-bordeaux.fr\nhttps://www.tantra-bordeaux.fr
URL:https://www.tantra-nature.com/programmes/stage-tantra/event/10000076-stage-tantra-et-massages-tantriques-au-pays-basque.html
LOCATION:Gite bellevue\, 881\, Chemin de Bellevue\, Bergouey-Viellenave\, 64270\, France
CATEGORIES:Stage tantra,Toutes les dates
ATTACH;FMTTYPE=image/png:https://www.tantra-nature.com/wp-content/uploads/2026/03/Pays_basque.png
ORGANIZER;CN="Dominique Bouilly":MAILTO:contact@tantra-nature.com
END:VEVENT
END:VCALENDAR